BEGIN:VCALENDAR
VERSION:2.0
PRODID:-//Lila Vini Yoga - ECPv6.15.20//NONSGML v1.0//EN
CALSCALE:GREGORIAN
METHOD:PUBLISH
X-WR-CALNAME:Lila Vini Yoga
X-ORIGINAL-URL:https://lilaviniyoga.de
X-WR-CALDESC:Veranstaltungen für Lila Vini Yoga
REFRESH-INTERVAL;VALUE=DURATION:PT1H
X-Robots-Tag:noindex
X-PUBLISHED-TTL:PT1H
BEGIN:VTIMEZONE
TZID:UTC
BEGIN:STANDARD
TZOFFSETFROM:+0000
TZOFFSETTO:+0000
TZNAME:UTC
DTSTART:20240101T000000
END:STANDARD
END:VTIMEZONE
BEGIN:VEVENT
DTSTART;TZID=UTC:20251202T080000
DTEND;TZID=UTC:20251202T170000
DTSTAMP:20260419T213640
CREATED:20250805T125959Z
LAST-MODIFIED:20250805T125959Z
UID:185-1764662400-1764694800@lilaviniyoga.de
SUMMARY:Postnatales Yoga
DESCRIPTION:Postnatales Yoga (ohne Baby) zur Unterstützung deiner Rückbildung. \n  \nBeckenboden- und sanfte Yogaübungen aus dem Vini Yoga ermöglichen dir\, achtsam deine Muskulatur nach der Schwangerschaft wieder aufzubauen. Neben der Kräftigung deines Beckenbodens sowie deiner Bauch- und Rückenmuskeln werden auch Schultern und Nacken gelockert. \nEingerahmt werden die Körperübungen durch Entspannungs- und Atemübungen. Der Kurs unterstützt dich wieder mehr in Kontakt zu dir zu kommen\, neue Energie zu schöpfen und in deinem neuen Mama-Körper anzukommen. \nSollte deine Geburt bereits länger zurückliegen\, dein Beckenboden aber noch mehr Aufmerksamkeit brauchen\, bist du hier auch herzlich willkommen. \n  \nHinweise \n  \nDie Geburt deines Kindes sollte zu Kursbeginn mindestens 10 Wochen zurückliegen. \nEs ist keine Yoga-Vorerfahrung notwendig. \n  \n  \nGeeignet für \n  \nFrauen nach der Geburt und in den ersten Babyjahren. \n  \n  \nTermine 07.10.\, 14.10.\, 21.10.\, 04.11.\, 18.11.\, 25.11.\, 02.12.\, 09.12.\, 16.12.2025 und 13.01.2026 \nDauer 18-19 Uhr \nKosten 160 Euro \nOrt Frauenherz Vaihingen\, Herrenberger Str. 6\, 70563 Stuttgart \n  \nAnmeldung bei lila.vini.yoga@gmail.com \n 
URL:https://lilaviniyoga.de/event/postnatales-yoga-7
LOCATION:Frauenherz Vaihingen\, Herrenbergerstr. 6\, Stuttgart\, 70563
ATTACH;FMTTYPE=image/jpeg:https://lilaviniyoga.de/wp-content/uploads/2025/08/21488961111.jpg
END:VEVENT
BEGIN:VEVENT
DTSTART;TZID=UTC:20251202T191000
DTEND;TZID=UTC:20251202T201000
DTSTAMP:20260419T213640
CREATED:20250805T133033Z
LAST-MODIFIED:20250805T133033Z
UID:205-1764702600-1764706200@lilaviniyoga.de
SUMMARY:Yoga in den Wechseljahren
DESCRIPTION:🧘‍♀️ Yoga in den Wechseljahren 🧘‍♀️ \n  \n  \n  \n  \nDu bist in den Wechseljahren? \n  \nDu fühlst dich nicht im Gleichgewicht? \n  \nHitzewallungen plagen dich? \n  \nLeidest du an Schlaflosigkeit? \n  \nDeine Hormone spielen verrückt? \n  \nYoga kann dich in dieser neuen Phase deines Lebens unterstützen: Durch Entspannungs- und Atemübungen kannst du Stress abbauen und neue Energie tanken. Mit Yogaübungen für den gesamten Körper unterstützen wir die Entspannung und du kannst deine Selbstwahrnehmung sowie dein Selbstbewusstsein stärken. Ergänzt durch Fitnesselemente wirkst du dem Muskelschwund ab dem 40. Lebensjahr entgegen. \n  \nBesonders in dieser Phase des Umbruchs\, in der Hormone und Körper außer Rand und Band geraten zu scheinen\, kann Yoga für uns Frauen ein wertvoller Begleiter sein\, der uns hilft\, uns selbst nahe zu kommen und die Bedürfnisse des eigenen Körpers und Geistes achtsam zu entdecken. \n  \nHinweis \n  \nEs ist keine Yoga-Vorerfahrung notwendig. \n  \nGeeignet für \n  \nFrauen in jeder Phase der Wechseljahre. \n  \nTermine 07.10.\, 14.10.\, 21.10.\, 04.11.\, 18.11.\, 25.11.\, 02.12.\, 09.12.\, 16.12.2025 und 13.01.2026 \n  \nDauer 19.10-20.10 Uhr \n  \nKosten 160 Euro \n  \nOrt Frauenherz Vaihingen\, Herrenberger Str. 6\, 70563 Stuttgart \n  \nAnmeldung bei lila.vini.yoga@gmail.com
URL:https://lilaviniyoga.de/event/yoga-in-den-wechseljahren-7
LOCATION:Frauenherz Vaihingen\, Herrenbergerstr. 6\, Stuttgart\, 70563
ATTACH;FMTTYPE=image/jpeg:https://lilaviniyoga.de/wp-content/uploads/2025/08/Screenshot_20250805_115403_Chrome.jpg
END:VEVENT
END:VCALENDAR