BEGIN:VCALENDAR
VERSION:2.0
PRODID:-//Lila Vini Yoga - ECPv6.15.20//NONSGML v1.0//EN
CALSCALE:GREGORIAN
METHOD:PUBLISH
X-ORIGINAL-URL:https://lilaviniyoga.de
X-WR-CALDESC:Veranstaltungen für Lila Vini Yoga
REFRESH-INTERVAL;VALUE=DURATION:PT1H
X-Robots-Tag:noindex
X-PUBLISHED-TTL:PT1H
BEGIN:VTIMEZONE
TZID:UTC
BEGIN:STANDARD
TZOFFSETFROM:+0000
TZOFFSETTO:+0000
TZNAME:UTC
DTSTART:20250101T000000
END:STANDARD
END:VTIMEZONE
BEGIN:VEVENT
DTSTART;TZID=UTC:20260203T180000
DTEND;TZID=UTC:20260203T190000
DTSTAMP:20260419T175645
CREATED:20251107T173942Z
LAST-MODIFIED:20251107T173942Z
UID:282-1770141600-1770145200@lilaviniyoga.de
SUMMARY:Yoga postnatal
DESCRIPTION:🧘‍♀️ Yoga postnatal 🧘‍♀️ \n  \nPostnatales Yoga (ohne Baby) zur Unterstützung deiner Rückbildung. \n  \nDer Kurs unterstützt dich wieder mehr in Kontakt zu dir zu kommen\, neue Energie zu schöpfen und in deinem neuen Mama-Körper anzukommen. \n  \nSollte deine Geburt bereits länger zurückliegen\, dein Beckenboden aber noch mehr Aufmerksamkeit brauchen\, bist du hier richtig. \n❗Die Geburt deines Kindes sollte zu Kursbeginn min. 10 Wochen zurückliegen. \nKeine Yoga-Vorerfahrung notwendig. \nGeeignet nach der Geburt und in den ersten Babyjahren. \nKosten 160 Euro für 10 Termine \nAnmeldung lila.vini.yoga [at] gmail.com
URL:https://lilaviniyoga.de/event/yoga-postnatal-2
LOCATION:Frauenherz Vaihingen\, Herrenbergerstr. 6\, Stuttgart\, 70563
ATTACH;FMTTYPE=image/jpeg:https://lilaviniyoga.de/wp-content/uploads/2025/11/2148896111.jpg
END:VEVENT
BEGIN:VEVENT
DTSTART;TZID=UTC:20260203T191000
DTEND;TZID=UTC:20260203T201000
DTSTAMP:20260419T175645
CREATED:20251107T161148Z
LAST-MODIFIED:20251107T161148Z
UID:233-1770145800-1770149400@lilaviniyoga.de
SUMMARY:Yoga in den Wechseljahren
DESCRIPTION:🧘‍♀️ Yoga in den Wechseljahren 🧘‍♀️ \n  \n  \n  \n  \n  \n  \n  \nDu bist in den Wechseljahren? \n  \nDu fühlst dich nicht im Gleichgewicht? \n  \nHitzewallungen plagen dich? \n  \nLeidest du an Schlaflosigkeit? \n  \nDeine Hormone spielen verrückt? \n  \n  \n  \n  \nYoga kann dich in dieser neuen Phase deines Lebens unterstützen: Durch Entspannungs- und Atemübungen kannst du Stress abbauen und neue Energie tanken. Mit Yogaübungen für den gesamten Körper unterstützen wir die Entspannung und du kannst deine Selbstwahrnehmung sowie dein Selbstbewusstsein stärken. Ergänzt durch Fitnesselemente wirkst du dem Muskelschwund ab dem 40. Lebensjahr entgegen. \n  \nBesonders in dieser Phase des Umbruchs\, in der Hormone und Körper außer Rand und Band geraten zu scheinen\, kann Yoga für uns Frauen ein wertvoller Begleiter sein\, der uns hilft\, uns selbst nahe zu kommen und die Bedürfnisse des eigenen Körpers und Geistes achtsam zu entdecken. \n  \n  \n  \n  \nHinweis \n  \n  \n  \n  \nEs ist keine Yoga-Vorerfahrung notwendig. \n  \n  \n  \n  \n  \n  \n  \nGeeignet für \n  \n  \n  \n  \nFrauen in jeder Phase der Wechseljahre \n  \nKosten 160 Euro für 10 Termine \n  \nAnmeldung lila.vini.yoga [at] gmail.com
URL:https://lilaviniyoga.de/event/yoga-in-den-wechseljahren-12
LOCATION:Frauenherz Vaihingen\, Herrenbergerstr. 6\, Stuttgart\, 70563
ATTACH;FMTTYPE=image/jpeg:https://lilaviniyoga.de/wp-content/uploads/2025/08/Screenshot_20250805_115403_Chrome.jpg
END:VEVENT
BEGIN:VEVENT
DTSTART;TZID=UTC:20260210T180000
DTEND;TZID=UTC:20260210T190000
DTSTAMP:20260419T175645
CREATED:20251107T174122Z
LAST-MODIFIED:20251107T174122Z
UID:284-1770746400-1770750000@lilaviniyoga.de
SUMMARY:Yoga postnatal
DESCRIPTION:🧘‍♀️ Yoga postnatal 🧘‍♀️ \n  \nPostnatales Yoga (ohne Baby) zur Unterstützung deiner Rückbildung. \n  \nDer Kurs unterstützt dich wieder mehr in Kontakt zu dir zu kommen\, neue Energie zu schöpfen und in deinem neuen Mama-Körper anzukommen. \n  \nSollte deine Geburt bereits länger zurückliegen\, dein Beckenboden aber noch mehr Aufmerksamkeit brauchen\, bist du hier richtig. \n  \n❗Die Geburt deines Kindes sollte zu Kursbeginn min. 10 Wochen zurückliegen. \n  \nKeine Yoga-Vorerfahrung notwendig. \n  \nGeeignet nach der Geburt und in den ersten Babyjahren. \n  \nKosten 160 Euro für 10 Termine \n  \nAnmeldung lila.vini.yoga [at] gmail.com
URL:https://lilaviniyoga.de/event/yoga-postnatal-3
LOCATION:Frauenherz Vaihingen\, Herrenbergerstr. 6\, Stuttgart\, 70563
ATTACH;FMTTYPE=image/jpeg:https://lilaviniyoga.de/wp-content/uploads/2025/11/2148896111.jpg
END:VEVENT
BEGIN:VEVENT
DTSTART;TZID=UTC:20260210T191000
DTEND;TZID=UTC:20260210T201000
DTSTAMP:20260419T175645
CREATED:20251107T161359Z
LAST-MODIFIED:20251107T161359Z
UID:235-1770750600-1770754200@lilaviniyoga.de
SUMMARY:Yoga in den Wechseljahren
DESCRIPTION:🧘‍♀️ Yoga in den Wechseljahren 🧘‍♀️ \n  \n  \n  \n  \n  \n  \n  \nDu bist in den Wechseljahren? \n  \nDu fühlst dich nicht im Gleichgewicht? \n  \nHitzewallungen plagen dich? \n  \nLeidest du an Schlaflosigkeit? \n  \nDeine Hormone spielen verrückt? \n  \n  \n  \n  \nYoga kann dich in dieser neuen Phase deines Lebens unterstützen: Durch Entspannungs- und Atemübungen kannst du Stress abbauen und neue Energie tanken. Mit Yogaübungen für den gesamten Körper unterstützen wir die Entspannung und du kannst deine Selbstwahrnehmung sowie dein Selbstbewusstsein stärken. Ergänzt durch Fitnesselemente wirkst du dem Muskelschwund ab dem 40. Lebensjahr entgegen. \n  \nBesonders in dieser Phase des Umbruchs\, in der Hormone und Körper außer Rand und Band geraten zu scheinen\, kann Yoga für uns Frauen ein wertvoller Begleiter sein\, der uns hilft\, uns selbst nahe zu kommen und die Bedürfnisse des eigenen Körpers und Geistes achtsam zu entdecken. \n  \n  \n  \n  \nHinweis \n  \n  \n  \n  \nEs ist keine Yoga-Vorerfahrung notwendig. \n  \n  \n  \n  \n  \n  \n  \nGeeignet für \n  \n  \n  \n  \nFrauen in jeder Phase der Wechseljahre \n  \nKosten 160 Euro für 10 Termine \n  \nAnmeldung lila.vini.yoga [at] gmail.com
URL:https://lilaviniyoga.de/event/yoga-in-den-wechseljahren-13
LOCATION:Frauenherz Vaihingen\, Herrenbergerstr. 6\, Stuttgart\, 70563
ATTACH;FMTTYPE=image/jpeg:https://lilaviniyoga.de/wp-content/uploads/2025/08/Screenshot_20250805_115403_Chrome.jpg
END:VEVENT
BEGIN:VEVENT
DTSTART;TZID=UTC:20260224T180000
DTEND;TZID=UTC:20260224T190000
DTSTAMP:20260419T175645
CREATED:20251107T174307Z
LAST-MODIFIED:20251107T174607Z
UID:286-1771956000-1771959600@lilaviniyoga.de
SUMMARY:Yoga postnatal
DESCRIPTION:🧘‍♀️ Yoga postnatal 🧘‍♀️ \n  \nPostnatales Yoga (ohne Baby) zur Unterstützung deiner Rückbildung. \n  \nDer Kurs unterstützt dich wieder mehr in Kontakt zu dir zu kommen\, neue Energie zu schöpfen und in deinem neuen Mama-Körper anzukommen. \n  \nSollte deine Geburt bereits länger zurückliegen\, dein Beckenboden aber noch mehr Aufmerksamkeit brauchen\, bist du hier richtig. \n  \n❗Die Geburt deines Kindes sollte zu Kursbeginn min. 10 Wochen zurückliegen. \n  \nKeine Yoga-Vorerfahrung notwendig. \n  \nGeeignet nach der Geburt und in den ersten Babyjahren. \n  \nKosten 160 Euro für 10 Termine \n  \nAnmeldung lila.vini.yoga [at] gmail.com
URL:https://lilaviniyoga.de/event/yoga-postnatal-4
LOCATION:Frauenherz Vaihingen\, Herrenbergerstr. 6\, Stuttgart\, 70563
ATTACH;FMTTYPE=image/jpeg:https://lilaviniyoga.de/wp-content/uploads/2025/11/2148896111.jpg
END:VEVENT
BEGIN:VEVENT
DTSTART;TZID=UTC:20260224T191000
DTEND;TZID=UTC:20260224T201000
DTSTAMP:20260419T175645
CREATED:20251107T161550Z
LAST-MODIFIED:20251107T161550Z
UID:237-1771960200-1771963800@lilaviniyoga.de
SUMMARY:Yoga in den Wechseljahren
DESCRIPTION:🧘‍♀️ Yoga in den Wechseljahren 🧘‍♀️ \n  \n  \n  \n  \n  \n  \n  \nDu bist in den Wechseljahren? \n  \nDu fühlst dich nicht im Gleichgewicht? \n  \nHitzewallungen plagen dich? \n  \nLeidest du an Schlaflosigkeit? \n  \nDeine Hormone spielen verrückt? \n  \n  \n  \n  \nYoga kann dich in dieser neuen Phase deines Lebens unterstützen: Durch Entspannungs- und Atemübungen kannst du Stress abbauen und neue Energie tanken. Mit Yogaübungen für den gesamten Körper unterstützen wir die Entspannung und du kannst deine Selbstwahrnehmung sowie dein Selbstbewusstsein stärken. Ergänzt durch Fitnesselemente wirkst du dem Muskelschwund ab dem 40. Lebensjahr entgegen. \n  \nBesonders in dieser Phase des Umbruchs\, in der Hormone und Körper außer Rand und Band geraten zu scheinen\, kann Yoga für uns Frauen ein wertvoller Begleiter sein\, der uns hilft\, uns selbst nahe zu kommen und die Bedürfnisse des eigenen Körpers und Geistes achtsam zu entdecken. \n  \n  \n  \n  \nHinweis \n  \n  \n  \n  \nEs ist keine Yoga-Vorerfahrung notwendig. \n  \n  \n  \n  \n  \n  \n  \nGeeignet für \n  \n  \n  \n  \nFrauen in jeder Phase der Wechseljahre \n  \nKosten 160 Euro für 10 Termine \n  \nAnmeldung lila.vini.yoga [at] gmail.com
URL:https://lilaviniyoga.de/event/yoga-in-den-wechseljahren-14
LOCATION:Frauenherz Vaihingen\, Herrenbergerstr. 6\, Stuttgart\, 70563
ATTACH;FMTTYPE=image/jpeg:https://lilaviniyoga.de/wp-content/uploads/2025/08/Screenshot_20250805_115403_Chrome.jpg
END:VEVENT
END:VCALENDAR