BEGIN:VCALENDAR
VERSION:2.0
PRODID:-//Lila Vini Yoga - ECPv6.15.20//NONSGML v1.0//EN
CALSCALE:GREGORIAN
METHOD:PUBLISH
X-WR-CALNAME:Lila Vini Yoga
X-ORIGINAL-URL:https://lilaviniyoga.de
X-WR-CALDESC:Veranstaltungen für Lila Vini Yoga
REFRESH-INTERVAL;VALUE=DURATION:PT1H
X-Robots-Tag:noindex
X-PUBLISHED-TTL:PT1H
BEGIN:VTIMEZONE
TZID:UTC
BEGIN:STANDARD
TZOFFSETFROM:+0000
TZOFFSETTO:+0000
TZNAME:UTC
DTSTART:20250101T000000
END:STANDARD
END:VTIMEZONE
BEGIN:VEVENT
DTSTART;TZID=UTC:20260505T180000
DTEND;TZID=UTC:20260505T190000
DTSTAMP:20260419T143302
CREATED:20251107T191230Z
LAST-MODIFIED:20251107T191230Z
UID:304-1778004000-1778007600@lilaviniyoga.de
SUMMARY:Yoga postnatal
DESCRIPTION:🧘‍♀️ Yoga postnatal 🧘‍♀️ \nPostnatales Yoga (ohne Baby) zur Unterstützung deiner Rückbildung. \n  \nDer Kurs unterstützt dich wieder mehr in Kontakt zu dir zu kommen\, neue Energie zu schöpfen und in deinem neuen Mama-Körper anzukommen. \nSollte deine Geburt bereits länger zurückliegen\, dein Beckenboden aber noch mehr Aufmerksamkeit brauchen\, bist du hier richtig. \n  \n❗Die Geburt deines Kindes sollte zu Kursbeginn min. 10 Wochen zurückliegen. \n  \nKeine Yoga-Vorerfahrung notwendig. \n  \nGeeignet nach der Geburt und in den ersten Babyjahren. \n  \nKosten 192 Euro für 12 Termine \n  \nAnmeldung lila.vini.yoga [at] gmail.com
URL:https://lilaviniyoga.de/event/yoga-postnatal-12
LOCATION:Frauenherz Vaihingen\, Herrenbergerstr. 6\, Stuttgart\, 70563
ATTACH;FMTTYPE=image/jpeg:https://lilaviniyoga.de/wp-content/uploads/2025/11/2148896111.jpg
END:VEVENT
BEGIN:VEVENT
DTSTART;TZID=UTC:20260505T191000
DTEND;TZID=UTC:20260505T201000
DTSTAMP:20260419T143302
CREATED:20251107T163330Z
LAST-MODIFIED:20251107T163330Z
UID:253-1778008200-1778011800@lilaviniyoga.de
SUMMARY:Yoga in den Wechseljahren
DESCRIPTION:🧘‍♀️ Yoga in den Wechseljahren 🧘‍♀️ \n  \n  \n  \n  \n  \n  \n  \n  \n  \n  \n  \n  \n  \n  \n  \n  \n  \n  \n  \n  \n  \n  \nDu bist in den Wechseljahren? \n  \n  \n  \n  \nDu fühlst dich nicht im Gleichgewicht? \n  \n  \n  \n  \nHitzewallungen plagen dich? \n  \n  \n  \n  \nLeidest du an Schlaflosigkeit? \n  \n  \n  \n  \nDeine Hormone spielen verrückt? \n  \n  \n  \n  \n  \n  \n  \n  \n  \n  \n  \n  \n  \nYoga kann dich in dieser neuen Phase deines Lebens unterstützen: Durch Entspannungs- und Atemübungen kannst du Stress abbauen und neue Energie tanken. Mit Yogaübungen für den gesamten Körper unterstützen wir die Entspannung und du kannst deine Selbstwahrnehmung sowie dein Selbstbewusstsein stärken. Ergänzt durch Fitnesselemente wirkst du dem Muskelschwund ab dem 40. Lebensjahr entgegen. \n  \n  \n  \n  \nBesonders in dieser Phase des Umbruchs\, in der Hormone und Körper außer Rand und Band geraten zu scheinen\, kann Yoga für uns Frauen ein wertvoller Begleiter sein\, der uns hilft\, uns selbst nahe zu kommen und die Bedürfnisse des eigenen Körpers und Geistes achtsam zu entdecken. \n  \nHinweis \nEs ist keine Yoga-Vorerfahrung notwendig. \n  \nGeeignet für Frauen in jeder Phase der Wechseljahre \n  \nKosten 192 Euro für 12 Termine \n  \nAnmeldung lila.vini.yoga [at] gmail.com
URL:https://lilaviniyoga.de/event/yoga-in-den-wechseljahren-22
LOCATION:Frauenherz Vaihingen\, Herrenbergerstr. 6\, Stuttgart\, 70563
ATTACH;FMTTYPE=image/jpeg:https://lilaviniyoga.de/wp-content/uploads/2025/08/Screenshot_20250805_115403_Chrome.jpg
END:VEVENT
BEGIN:VEVENT
DTSTART;TZID=UTC:20260512T180000
DTEND;TZID=UTC:20260512T190000
DTSTAMP:20260419T143302
CREATED:20251107T191423Z
LAST-MODIFIED:20251107T191423Z
UID:306-1778608800-1778612400@lilaviniyoga.de
SUMMARY:Yoga postnatal
DESCRIPTION:🧘‍♀️ Yoga postnatal 🧘‍♀️ \n  \nPostnatales Yoga (ohne Baby) zur Unterstützung deiner Rückbildung. \n  \nDer Kurs unterstützt dich wieder mehr in Kontakt zu dir zu kommen\, neue Energie zu schöpfen und in deinem neuen Mama-Körper anzukommen. \n  \nSollte deine Geburt bereits länger zurückliegen\, dein Beckenboden aber noch mehr Aufmerksamkeit brauchen\, bist du hier richtig. \n  \n❗Die Geburt deines Kindes sollte zu Kursbeginn min. 10 Wochen zurückliegen. \n  \nKeine Yoga-Vorerfahrung notwendig. \n  \nGeeignet nach der Geburt und in den ersten Babyjahren. \n  \nKosten 192 Euro für 12 Termine \n  \nAnmeldung lila.vini.yoga [at] gmail.com
URL:https://lilaviniyoga.de/event/yoga-postnatal-13
LOCATION:Frauenherz Vaihingen\, Herrenbergerstr. 6\, Stuttgart\, 70563
ATTACH;FMTTYPE=image/jpeg:https://lilaviniyoga.de/wp-content/uploads/2025/11/2148896111.jpg
END:VEVENT
BEGIN:VEVENT
DTSTART;TZID=UTC:20260512T191000
DTEND;TZID=UTC:20260512T201000
DTSTAMP:20260419T143302
CREATED:20251107T163507Z
LAST-MODIFIED:20251107T163507Z
UID:255-1778613000-1778616600@lilaviniyoga.de
SUMMARY:Yoga in den Wechseljahren
DESCRIPTION:🧘‍♀️ Yoga in den Wechseljahren 🧘‍♀️ \n  \n  \n  \n  \n  \n  \n  \n  \n  \n  \n  \n  \n  \n  \n  \n  \n  \n  \n  \n  \n  \n  \nDu bist in den Wechseljahren? \n  \n  \n  \n  \nDu fühlst dich nicht im Gleichgewicht? \n  \n  \n  \n  \nHitzewallungen plagen dich? \n  \n  \n  \n  \nLeidest du an Schlaflosigkeit? \n  \n  \n  \n  \nDeine Hormone spielen verrückt? \n  \n  \n  \n  \n  \n  \n  \n  \n  \n  \n  \n  \n  \nYoga kann dich in dieser neuen Phase deines Lebens unterstützen: Durch Entspannungs- und Atemübungen kannst du Stress abbauen und neue Energie tanken. Mit Yogaübungen für den gesamten Körper unterstützen wir die Entspannung und du kannst deine Selbstwahrnehmung sowie dein Selbstbewusstsein stärken. Ergänzt durch Fitnesselemente wirkst du dem Muskelschwund ab dem 40. Lebensjahr entgegen. \n  \n  \n  \n  \nBesonders in dieser Phase des Umbruchs\, in der Hormone und Körper außer Rand und Band geraten zu scheinen\, kann Yoga für uns Frauen ein wertvoller Begleiter sein\, der uns hilft\, uns selbst nahe zu kommen und die Bedürfnisse des eigenen Körpers und Geistes achtsam zu entdecken. \n  \n  \n  \n  \n  \n  \n  \n  \n  \n  \n  \n  \n  \nHinweis \n  \n  \n  \n  \n  \n  \n  \n  \n  \n  \n  \n  \n  \nEs ist keine Yoga-Vorerfahrung notwendig. \n  \n  \n  \n  \n  \n  \n  \n  \n  \n  \n  \n  \n  \n  \n  \n  \n  \n  \n  \n  \n  \n  \nGeeignet für \n  \n  \n  \n  \n  \n  \n  \n  \n\n  \n  \n  \n  \nFrauen in jeder Phase der Wechseljahre \n  \n  \n  \n  \nKosten 192 Euro für 12 Termine \n  \n  \n  \n  \nAnmeldung lila.vini.yoga [at] gmail.com
URL:https://lilaviniyoga.de/event/yoga-in-den-wechseljahren-23
LOCATION:Frauenherz Vaihingen\, Herrenbergerstr. 6\, Stuttgart\, 70563
ATTACH;FMTTYPE=image/jpeg:https://lilaviniyoga.de/wp-content/uploads/2025/08/Screenshot_20250805_115403_Chrome.jpg
END:VEVENT
BEGIN:VEVENT
DTSTART;TZID=UTC:20260519T180000
DTEND;TZID=UTC:20260519T190000
DTSTAMP:20260419T143302
CREATED:20251107T191632Z
LAST-MODIFIED:20251107T191632Z
UID:308-1779213600-1779217200@lilaviniyoga.de
SUMMARY:Yoga postnatal
DESCRIPTION:🧘‍♀️ Yoga postnatal 🧘‍♀️ \n  \nPostnatales Yoga (ohne Baby) zur Unterstützung deiner Rückbildung. \nDer Kurs unterstützt dich wieder mehr in Kontakt zu dir zu kommen\, neue Energie zu schöpfen und in deinem neuen Mama-Körper anzukommen. \nSollte deine Geburt bereits länger zurückliegen\, dein Beckenboden aber noch mehr Aufmerksamkeit brauchen\, bist du hier richtig. \n  \n❗Die Geburt deines Kindes sollte zu Kursbeginn min. 10 Wochen zurückliegen. \n  \nKeine Yoga-Vorerfahrung notwendig. \nGeeignet nach der Geburt und in den ersten Babyjahren. \nKosten 192 Euro für 12 Termine \nAnmeldung lila.vini.yoga [at] gmail.com
URL:https://lilaviniyoga.de/event/yoga-postnatal-14
LOCATION:Frauenherz Vaihingen\, Herrenbergerstr. 6\, Stuttgart\, 70563
ATTACH;FMTTYPE=image/jpeg:https://lilaviniyoga.de/wp-content/uploads/2025/11/2148896111.jpg
END:VEVENT
BEGIN:VEVENT
DTSTART;TZID=UTC:20260519T191000
DTEND;TZID=UTC:20260519T201000
DTSTAMP:20260419T143302
CREATED:20251107T163924Z
LAST-MODIFIED:20251107T163924Z
UID:258-1779217800-1779221400@lilaviniyoga.de
SUMMARY:Yoga in den Wechseljahren
DESCRIPTION:🧘‍♀️ Yoga in den Wechseljahren 🧘‍♀️ \n  \n  \n  \n  \n  \n  \n  \n  \n  \n  \n  \n  \n  \n  \n  \n  \n  \n  \n  \n  \n  \n  \nDu bist in den Wechseljahren? \n  \n  \n  \n  \nDu fühlst dich nicht im Gleichgewicht? \n  \n  \n  \n  \nHitzewallungen plagen dich? \n  \n  \n  \n  \nLeidest du an Schlaflosigkeit? \n  \n  \n  \n  \nDeine Hormone spielen verrückt? \n  \n  \n  \n  \n  \n  \n  \n  \n  \n  \n  \n  \n  \nYoga kann dich in dieser neuen Phase deines Lebens unterstützen: Durch Entspannungs- und Atemübungen kannst du Stress abbauen und neue Energie tanken. Mit Yogaübungen für den gesamten Körper unterstützen wir die Entspannung und du kannst deine Selbstwahrnehmung sowie dein Selbstbewusstsein stärken. Ergänzt durch Fitnesselemente wirkst du dem Muskelschwund ab dem 40. Lebensjahr entgegen. \n  \n  \n  \n  \nBesonders in dieser Phase des Umbruchs\, in der Hormone und Körper außer Rand und Band geraten zu scheinen\, kann Yoga für uns Frauen ein wertvoller Begleiter sein\, der uns hilft\, uns selbst nahe zu kommen und die Bedürfnisse des eigenen Körpers und Geistes achtsam zu entdecken. \n  \n  \n  \n  \n  \n  \n  \n  \n  \n  \n  \n  \n  \nHinweis \n  \n  \n  \n  \n  \n  \n  \n  \n  \n  \n  \n  \n  \nEs ist keine Yoga-Vorerfahrung notwendig. \n  \n  \n  \n  \n  \n  \n  \n  \n  \n  \n  \n  \n  \n  \n  \n  \n  \n  \n  \n  \n  \n  \nGeeignet für \n  \n  \n  \n  \n  \n  \n  \n  \n  \n  \n  \n  \n  \nFrauen in jeder Phase der Wechseljahre \n  \n  \n  \n  \nKosten 192 Euro für 12 Termine \n  \n  \n  \n  \nAnmeldung lila.vini.yoga [at] gmail.com
URL:https://lilaviniyoga.de/event/yoga-in-den-wechseljahren-24
LOCATION:Frauenherz Vaihingen\, Herrenbergerstr. 6\, Stuttgart\, 70563
ATTACH;FMTTYPE=image/jpeg:https://lilaviniyoga.de/wp-content/uploads/2025/08/Screenshot_20250805_115403_Chrome.jpg
END:VEVENT
END:VCALENDAR