BEGIN:VCALENDAR
VERSION:2.0
PRODID:-//Lila Vini Yoga - ECPv6.15.20//NONSGML v1.0//EN
CALSCALE:GREGORIAN
METHOD:PUBLISH
X-WR-CALNAME:Lila Vini Yoga
X-ORIGINAL-URL:https://lilaviniyoga.de
X-WR-CALDESC:Veranstaltungen für Lila Vini Yoga
REFRESH-INTERVAL;VALUE=DURATION:PT1H
X-Robots-Tag:noindex
X-PUBLISHED-TTL:PT1H
BEGIN:VTIMEZONE
TZID:UTC
BEGIN:STANDARD
TZOFFSETFROM:+0000
TZOFFSETTO:+0000
TZNAME:UTC
DTSTART:20250101T000000
END:STANDARD
END:VTIMEZONE
BEGIN:VEVENT
DTSTART;TZID=UTC:20260609T180000
DTEND;TZID=UTC:20260609T190000
DTSTAMP:20260419T162447
CREATED:20251107T191842Z
LAST-MODIFIED:20251107T191842Z
UID:310-1781028000-1781031600@lilaviniyoga.de
SUMMARY:Yog postnatal
DESCRIPTION:🧘‍♀️ Yoga postnatal 🧘‍♀️ \nPostnatales Yoga (ohne Baby) zur Unterstützung deiner Rückbildung. \nDer Kurs unterstützt dich wieder mehr in Kontakt zu dir zu kommen\, neue Energie zu schöpfen und in deinem neuen Mama-Körper anzukommen. \nSollte deine Geburt bereits länger zurückliegen\, dein Beckenboden aber noch mehr Aufmerksamkeit brauchen\, bist du hier richtig. \n❗Die Geburt deines Kindes sollte zu Kursbeginn min. 10 Wochen zurückliegen. \nKeine Yoga-Vorerfahrung notwendig. \nGeeignet nach der Geburt und in den ersten Babyjahren. \nKosten 192 Euro für 12 Termine \nAnmeldung lila.vini.yoga [at] gmail.com
URL:https://lilaviniyoga.de/event/yog-postnatal
LOCATION:Frauenherz Vaihingen\, Herrenbergerstr. 6\, Stuttgart\, 70563
ATTACH;FMTTYPE=image/jpeg:https://lilaviniyoga.de/wp-content/uploads/2025/11/2148896111.jpg
END:VEVENT
BEGIN:VEVENT
DTSTART;TZID=UTC:20260609T191000
DTEND;TZID=UTC:20260609T201000
DTSTAMP:20260419T162447
CREATED:20251107T164227Z
LAST-MODIFIED:20251107T164227Z
UID:260-1781032200-1781035800@lilaviniyoga.de
SUMMARY:Yoga in den Wechseljahren
DESCRIPTION:🧘‍♀️ Yoga in den Wechseljahren 🧘‍♀️ \n  \n  \n  \n  \n  \n  \n  \n  \n  \n  \n  \n  \n  \n  \n  \n  \n  \n  \n  \n  \n  \n  \nDu bist in den Wechseljahren? \n  \n  \n  \n  \nDu fühlst dich nicht im Gleichgewicht? \n  \n  \n  \n  \nHitzewallungen plagen dich? \n  \n  \n  \n  \nLeidest du an Schlaflosigkeit? \n  \n  \n  \n  \nDeine Hormone spielen verrückt? \n  \n  \n  \n  \n  \n  \n  \n  \n  \n  \n  \n  \n  \nYoga kann dich in dieser neuen Phase deines Lebens unterstützen: Durch Entspannungs- und Atemübungen kannst du Stress abbauen und neue Energie tanken. Mit Yogaübungen für den gesamten Körper unterstützen wir die Entspannung und du kannst deine Selbstwahrnehmung sowie dein Selbstbewusstsein stärken. Ergänzt durch Fitnesselemente wirkst du dem Muskelschwund ab dem 40. Lebensjahr entgegen. \n  \n  \n  \n  \nBesonders in dieser Phase des Umbruchs\, in der Hormone und Körper außer Rand und Band geraten zu scheinen\, kann Yoga für uns Frauen ein wertvoller Begleiter sein\, der uns hilft\, uns selbst nahe zu kommen und die Bedürfnisse des eigenen Körpers und Geistes achtsam zu entdecken. \n  \n  \n  \n  \n  \n  \n  \n  \n  \n  \n  \n  \n  \nHinweis \n  \n  \n  \n  \n  \n  \n  \n  \n  \n  \n  \n  \n  \nEs ist keine Yoga-Vorerfahrung notwendig. \n  \n  \n  \n  \n  \n  \n  \n  \n  \n  \n  \n  \n  \n  \n  \n  \n  \n  \n  \n  \n  \n  \nGeeignet für \n  \n  \n  \n  \n  \n  \n  \n  \n  \n  \n  \n  \n  \nFrauen in jeder Phase der Wechseljahre \n  \n  \n  \n  \nKosten 192 Euro für 12 Termine \n  \n  \n  \n  \nAnmeldung lila.vini.yoga [at] gmail.com
URL:https://lilaviniyoga.de/event/yoga-in-den-wechseljahren-25
LOCATION:Frauenherz Vaihingen\, Herrenbergerstr. 6\, Stuttgart\, 70563
ATTACH;FMTTYPE=image/jpeg:https://lilaviniyoga.de/wp-content/uploads/2025/08/Screenshot_20250805_115403_Chrome.jpg
END:VEVENT
BEGIN:VEVENT
DTSTART;TZID=UTC:20260616T180000
DTEND;TZID=UTC:20260616T190000
DTSTAMP:20260419T162447
CREATED:20251107T192046Z
LAST-MODIFIED:20251107T192046Z
UID:312-1781632800-1781636400@lilaviniyoga.de
SUMMARY:Yoga postnatal
DESCRIPTION:🧘‍♀️ Yoga postnatal 🧘‍♀️ \n  \nPostnatales Yoga (ohne Baby) zur Unterstützung deiner Rückbildung. \nDer Kurs unterstützt dich wieder mehr in Kontakt zu dir zu kommen\, neue Energie zu schöpfen und in deinem neuen Mama-Körper anzukommen. \n  \nSollte deine Geburt bereits länger zurückliegen\, dein Beckenboden aber noch mehr Aufmerksamkeit brauchen\, bist du hier richtig. \n  \n❗Die Geburt deines Kindes sollte zu Kursbeginn min. 10 Wochen zurückliegen. \n  \nKeine Yoga-Vorerfahrung notwendig. \nGeeignet nach der Geburt und in den ersten Babyjahren. \n  \nKosten 192 Euro für 12 Termine \nAnmeldung lila.vini.yoga [at] gmail.com
URL:https://lilaviniyoga.de/event/yoga-postnatal-15
LOCATION:Frauenherz Vaihingen\, Herrenbergerstr. 6\, Stuttgart\, 70563
ATTACH;FMTTYPE=image/jpeg:https://lilaviniyoga.de/wp-content/uploads/2025/11/2148896111.jpg
END:VEVENT
BEGIN:VEVENT
DTSTART;TZID=UTC:20260616T191000
DTEND;TZID=UTC:20260616T201000
DTSTAMP:20260419T162447
CREATED:20251107T164441Z
LAST-MODIFIED:20251107T164441Z
UID:262-1781637000-1781640600@lilaviniyoga.de
SUMMARY:Yoga in den Wechseljahren
DESCRIPTION:🧘‍♀️ Yoga in den Wechseljahren 🧘‍♀️ \n  \n  \n  \n  \n  \n  \n  \n  \n  \n  \n  \n  \n  \n  \n  \n  \n  \n  \n  \n  \n  \n  \nDu bist in den Wechseljahren? \n  \n  \n  \n  \nDu fühlst dich nicht im Gleichgewicht? \n  \n  \n  \n  \nHitzewallungen plagen dich? \n  \n  \n  \n  \nLeidest du an Schlaflosigkeit? \n  \n  \n  \n  \nDeine Hormone spielen verrückt? \n  \n  \n  \n  \n  \n  \n  \n  \n  \n  \n  \n  \n  \nYoga kann dich in dieser neuen Phase deines Lebens unterstützen: Durch Entspannungs- und Atemübungen kannst du Stress abbauen und neue Energie tanken. Mit Yogaübungen für den gesamten Körper unterstützen wir die Entspannung und du kannst deine Selbstwahrnehmung sowie dein Selbstbewusstsein stärken. Ergänzt durch Fitnesselemente wirkst du dem Muskelschwund ab dem 40. Lebensjahr entgegen. \n  \n  \n  \n  \nBesonders in dieser Phase des Umbruchs\, in der Hormone und Körper außer Rand und Band geraten zu scheinen\, kann Yoga für uns Frauen ein wertvoller Begleiter sein\, der uns hilft\, uns selbst nahe zu kommen und die Bedürfnisse des eigenen Körpers und Geistes achtsam zu entdecken. \n  \n  \n  \n  \n  \n  \n  \n  \n  \n  \n  \n  \n  \nHinweis \n  \n  \n  \n  \n  \n  \n  \n  \n  \n  \n  \n  \n  \nEs ist keine Yoga-Vorerfahrung notwendig. \n  \n  \n  \n  \n  \n  \n  \n  \n  \n  \n  \n  \n  \n  \n  \n  \n  \n  \n  \n  \n  \n  \nGeeignet für \n  \n  \n  \n  \n  \n  \n  \n  \n  \n  \n  \n  \n  \nFrauen in jeder Phase der Wechseljahre \n  \n  \n  \n  \nKosten 192 Euro für 12 Termine \n  \n  \n  \n  \nAnmeldung lila.vini.yoga [at] gmail.com
URL:https://lilaviniyoga.de/event/yoga-in-den-wechseljahren-26
LOCATION:Frauenherz Vaihingen\, Herrenbergerstr. 6\, Stuttgart\, 70563
ATTACH;FMTTYPE=image/jpeg:https://lilaviniyoga.de/wp-content/uploads/2025/08/Screenshot_20250805_115403_Chrome.jpg
END:VEVENT
BEGIN:VEVENT
DTSTART;TZID=UTC:20260623T180000
DTEND;TZID=UTC:20260623T193000
DTSTAMP:20260419T162447
CREATED:20251107T192411Z
LAST-MODIFIED:20251107T192411Z
UID:314-1782237600-1782243000@lilaviniyoga.de
SUMMARY:Yoga postnatal
DESCRIPTION:🧘‍♀️ Yoga postnatal 🧘‍♀️ \n  \nPostnatales Yoga (ohne Baby) zur Unterstützung deiner Rückbildung. \nDer Kurs unterstützt dich wieder mehr in Kontakt zu dir zu kommen\, neue Energie zu schöpfen und in deinem neuen Mama-Körper anzukommen. \nSollte deine Geburt bereits länger zurückliegen\, dein Beckenboden aber noch mehr Aufmerksamkeit brauchen\, bist du hier richtig. \n❗Die Geburt deines Kindes sollte zu Kursbeginn min. 10 Wochen zurückliegen. \nKeine Yoga-Vorerfahrung notwendig. \nGeeignet nach der Geburt und in den ersten Babyjahren. \n  \nKosten 192 Euro für 12 Termine \n  \nAnmeldung lila.vini.yoga [at] gmail.com
URL:https://lilaviniyoga.de/event/yoga-postnatal-16
LOCATION:Frauenherz Vaihingen\, Herrenbergerstr. 6\, Stuttgart\, 70563
ATTACH;FMTTYPE=image/jpeg:https://lilaviniyoga.de/wp-content/uploads/2025/11/2148896111.jpg
END:VEVENT
BEGIN:VEVENT
DTSTART;TZID=UTC:20260623T191000
DTEND;TZID=UTC:20260623T201000
DTSTAMP:20260419T162447
CREATED:20251107T164653Z
LAST-MODIFIED:20251107T164653Z
UID:264-1782241800-1782245400@lilaviniyoga.de
SUMMARY:Yoga in den Wechseljahren
DESCRIPTION:🧘‍♀️ Yoga in den Wechseljahren 🧘‍♀️ \n  \n  \n  \n  \n  \n  \n  \n  \n  \n  \n  \n  \n  \n  \n  \n  \n  \n  \n  \n  \n  \n  \nDu bist in den Wechseljahren? \n  \n  \n  \n  \nDu fühlst dich nicht im Gleichgewicht? \n  \n  \n  \n  \nHitzewallungen plagen dich? \n  \n  \n  \n  \nLeidest du an Schlaflosigkeit? \n  \n  \n  \n  \nDeine Hormone spielen verrückt? \n  \n  \n  \n  \n  \n  \n  \n  \n  \n  \n  \n  \n  \nYoga kann dich in dieser neuen Phase deines Lebens unterstützen: Durch Entspannungs- und Atemübungen kannst du Stress abbauen und neue Energie tanken. Mit Yogaübungen für den gesamten Körper unterstützen wir die Entspannung und du kannst deine Selbstwahrnehmung sowie dein Selbstbewusstsein stärken. Ergänzt durch Fitnesselemente wirkst du dem Muskelschwund ab dem 40. Lebensjahr entgegen. \n  \n  \n  \n  \nBesonders in dieser Phase des Umbruchs\, in der Hormone und Körper außer Rand und Band geraten zu scheinen\, kann Yoga für uns Frauen ein wertvoller Begleiter sein\, der uns hilft\, uns selbst nahe zu kommen und die Bedürfnisse des eigenen Körpers und Geistes achtsam zu entdecken. \n  \n  \n  \n  \n  \n  \n  \n  \n  \n  \n  \n  \n  \nHinweis \n  \n  \n  \n  \n  \n  \n  \n  \n  \n  \n  \n  \n  \nEs ist keine Yoga-Vorerfahrung notwendig. \n  \n  \n  \n  \n  \n  \n  \n  \n  \n  \n  \n  \n  \n  \n  \n  \n  \n  \n  \n  \n  \n  \nGeeignet für \n  \n  \n  \n  \n  \n  \n  \n  \n  \n  \n  \n  \n  \nFrauen in jeder Phase der Wechseljahre \n  \n  \n  \n  \nKosten 192 Euro für 12 Termine \n  \n  \n  \n  \nAnmeldung lila.vini.yoga [at] gmail.com
URL:https://lilaviniyoga.de/event/yoga-in-den-wechseljahren-27
LOCATION:Frauenherz Vaihingen\, Herrenbergerstr. 6\, Stuttgart\, 70563
ATTACH;FMTTYPE=image/jpeg:https://lilaviniyoga.de/wp-content/uploads/2025/08/Screenshot_20250805_115403_Chrome.jpg
END:VEVENT
BEGIN:VEVENT
DTSTART;TZID=UTC:20260630T180000
DTEND;TZID=UTC:20260630T190000
DTSTAMP:20260419T162447
CREATED:20251107T192637Z
LAST-MODIFIED:20251107T192637Z
UID:316-1782842400-1782846000@lilaviniyoga.de
SUMMARY:Yoga postnatal
DESCRIPTION:🧘‍♀️ Yoga postnatal 🧘‍♀️ \nPostnatales Yoga (ohne Baby) zur Unterstützung deiner Rückbildung. \n  \nDer Kurs unterstützt dich wieder mehr in Kontakt zu dir zu kommen\, neue Energie zu schöpfen und in deinem neuen Mama-Körper anzukommen. \n  \nSollte deine Geburt bereits länger zurückliegen\, dein Beckenboden aber noch mehr Aufmerksamkeit brauchen\, bist du hier richtig. \n  \n❗Die Geburt deines Kindes sollte zu Kursbeginn min. 10 Wochen zurückliegen. \n  \nKeine Yoga-Vorerfahrung notwendig. \nGeeignet nach der Geburt und in den ersten Babyjahren. \nKosten 192 Euro für 12 Termine \nAnmeldung lila.vini.yoga [at] gmail.com
URL:https://lilaviniyoga.de/event/yoga-postnatal-17
LOCATION:Frauenherz Vaihingen\, Herrenbergerstr. 6\, Stuttgart\, 70563
ATTACH;FMTTYPE=image/jpeg:https://lilaviniyoga.de/wp-content/uploads/2025/11/2148896111.jpg
END:VEVENT
BEGIN:VEVENT
DTSTART;TZID=UTC:20260630T191000
DTEND;TZID=UTC:20260630T201000
DTSTAMP:20260419T162447
CREATED:20251107T164837Z
LAST-MODIFIED:20251107T171425Z
UID:266-1782846600-1782850200@lilaviniyoga.de
SUMMARY:Yoga in den Wechseljahren
DESCRIPTION:🧘‍♀️ Yoga in den Wechseljahren 🧘‍♀️ \n  \nDu bist in den Wechseljahren? \nDu fühlst dich nicht im Gleichgewicht? \nHitzewallungen plagen dich? \nLeidest du an Schlaflosigkeit? \n  \n  \nDeine Hormone spielen verrückt? \n  \n  \n  \n  \n  \n  \n  \n  \n  \n  \n  \n  \n  \nYoga kann dich in dieser neuen Phase deines Lebens unterstützen: Durch Entspannungs- und Atemübungen kannst du Stress abbauen und neue Energie tanken. Mit Yogaübungen für den gesamten Körper unterstützen wir die Entspannung und du kannst deine Selbstwahrnehmung sowie dein Selbstbewusstsein stärken. Ergänzt durch Fitnesselemente wirkst du dem Muskelschwund ab dem 40. Lebensjahr entgegen. \n  \n  \n  \n  \nBesonders in dieser Phase des Umbruchs\, in der Hormone und Körper außer Rand und Band geraten zu scheinen\, kann Yoga für uns Frauen ein wertvoller Begleiter sein\, der uns hilft\, uns selbst nahe zu kommen und die Bedürfnisse des eigenen Körpers und Geistes achtsam zu entdecken. \n  \n  \n  \n  \n  \n  \n  \n  \n  \n  \n  \n  \n  \nHinweis \n  \n  \n  \n  \n  \n  \n  \n  \n  \n  \n  \n  \n  \nEs ist keine Yoga-Vorerfahrung notwendig. \n  \n  \n  \n  \n  \n  \n  \n  \n  \n  \n  \n  \n  \n  \n  \n  \n  \n  \n  \n  \n  \n  \nGeeignet für \n  \n  \n  \n  \n  \n  \n  \n  \n  \n  \n  \n  \n  \nFrauen in jeder Phase der Wechseljahre \n  \n  \n  \n  \nKosten 192 Euro für 12 Termine \n  \n  \n  \n  \nAnmeldung lila.vini.yoga [at] gmail.com
URL:https://lilaviniyoga.de/event/yoga-in-den-wechseljahren-28
LOCATION:Frauenherz Vaihingen\, Herrenbergerstr. 6\, Stuttgart\, 70563
ATTACH;FMTTYPE=image/jpeg:https://lilaviniyoga.de/wp-content/uploads/2025/08/Screenshot_20250805_115403_Chrome.jpg
END:VEVENT
END:VCALENDAR