BEGIN:VCALENDAR
VERSION:2.0
PRODID:-//Lila Vini Yoga - ECPv6.15.20//NONSGML v1.0//EN
CALSCALE:GREGORIAN
METHOD:PUBLISH
X-WR-CALNAME:Lila Vini Yoga
X-ORIGINAL-URL:https://lilaviniyoga.de
X-WR-CALDESC:Veranstaltungen für Lila Vini Yoga
REFRESH-INTERVAL;VALUE=DURATION:PT1H
X-Robots-Tag:noindex
X-PUBLISHED-TTL:PT1H
BEGIN:VTIMEZONE
TZID:UTC
BEGIN:STANDARD
TZOFFSETFROM:+0000
TZOFFSETTO:+0000
TZNAME:UTC
DTSTART:20230101T000000
END:STANDARD
END:VTIMEZONE
BEGIN:VEVENT
DTSTART;TZID=UTC:20241001T180000
DTEND;TZID=UTC:20241001T190000
DTSTAMP:20260423T153828
CREATED:20240819T101448Z
LAST-MODIFIED:20240819T101547Z
UID:142-1727805600-1727809200@lilaviniyoga.de
SUMMARY:Yoga Anfänger @Unisport Uni Hohenheim
DESCRIPTION:Kurs für Yoga Anfänger
URL:https://lilaviniyoga.de/event/yoga-anfaenger-unisport-uni-hohenheim-5
ATTACH;FMTTYPE=image/jpeg:https://lilaviniyoga.de/wp-content/uploads/2024/08/20240711_1834232-scaled.jpg
END:VEVENT
END:VCALENDAR